BEGIN:VCALENDAR
VERSION:2.0
PRODID:-//Viveda Wellness Resort | Nashik | Best wellness resort India - ECPv6.15.16//NONSGML v1.0//EN
CALSCALE:GREGORIAN
METHOD:PUBLISH
X-ORIGINAL-URL:https://vivedawellness.com
X-WR-CALDESC:Events for Viveda Wellness Resort | Nashik | Best wellness resort India
REFRESH-INTERVAL;VALUE=DURATION:PT1H
X-Robots-Tag:noindex
X-PUBLISHED-TTL:PT1H
BEGIN:VTIMEZONE
TZID:Asia/Kolkata
BEGIN:STANDARD
TZOFFSETFROM:+0530
TZOFFSETTO:+0530
TZNAME:IST
DTSTART:20230101T000000
END:STANDARD
END:VTIMEZONE
BEGIN:VEVENT
DTSTART;VALUE=DATE:20240823
DTEND;VALUE=DATE:20240826
DTSTAMP:20260421T080528
CREATED:20240806T074611Z
LAST-MODIFIED:20241005T113413Z
UID:1452-1724371200-1724630399@vivedawellness.com
SUMMARY:सुkoon Retreat\, Nashik August 2024
DESCRIPTION:Experience Tranquility and Connection at Mind & Mat Co.’s Sukoon\, where serenity and self-discovery await you. Set in a serene and picturesque location\, this three-day retreat is designed to help you unwind\, rejuvenate\, and reconnect with yourself. With a carefully curated itinerary blending restorative yoga\, therapeutic sessions\, and immersive experiences\, Sukoon promises a holistic approach to well-being.\n\nDay 1: Arrival and Initial Connection\nCheck-in by 12 PM: Begin your retreat experience with a warm welcome as you settle into the peaceful surroundings.\nIce-breaker Session: Connect with fellow participants through engaging activities designed to foster a sense of community.\nRestorative Yoga and Thai Massage with Priya: Unwind with a gentle yoga session and therapeutic Thai massage to release tension and prepare for deep relaxation.\nSleep Meditation and Sound Bath with Akshada & Priya: Drift into a state of calm with a soothing sleep meditation and sound bath\, setting the tone for restful nights ahead.\n\nDay 2: Deepening the Journey\nEarly Morning Yoga with Priya: Start your day with invigorating yoga\, embracing the tranquility of the early morning.\nMental Wellbeing with Akshada: Engage in sessions focused on mental health and well-being\, providing tools and insights for emotional balance.\nBreathwork with Akshada: Explore the power of breathwork to enhance mindfulness and inner peace.\nImmersive Art Session: Express your creativity and emotions through an immersive art session\, allowing for self-reflection and connection.\nSleep Meditation and Candle Gazing: Conclude the day with calming sleep meditation and candle gazing\, promoting deep relaxation and introspection.\n\nDay 3: Reflection and Farewell\nNature Walk: Immerse yourself in the beauty of nature with a guided walk\, reflecting on the journey and embracing the present moment.\nClosing Ceremony: Celebrate the connections made and the personal growth achieved during the retreat with a heartfelt closing ceremony.\nCheck-out by 11 AM: Depart with a sense of renewal and tranquility\, carrying the peace and insights gained into your everyday life.\n​\n​\n\nAbout the Venue:\nViveda is an Integrated Wellness Village Spread across 7.5 acres in the holy land of Trimbakeshwar with the Beze lake flowing by the side and the Sahyadri mountain range standing on guard. This platinum rated wellness sanctuary provides everything you need to facilitate a healthy mind. body and soul.\n​\nViveda’s Food Policy:\n​At Naivedhya restaurant\, everything is aimed towards achieving optimal health. Our chefs plate up delicious calorie-counted Indian and global cuisine that align with your lifestyle and help you develop a healthy eating regimen. Our menu does not feature alcohol.\n\nPlease Note:\nWhile Viveda is a pet friendly property\, Mind & Mat Co.’s Sukoon Retreat is not responsible for any arrangements required for pets. Smoking is not permitted in the rooms or inside the venue.
URL:https://vivedawellness.com/best-wellness-retreat-in-india/%e0%a4%b8%e0%a5%81koon-retreat-nashik-august-2024/
LOCATION:Viveda Wellness Resort\, Nashik\, India\, Viveda Wellness Resort\, Beze Village\, Trimbak Road\, Nashik\, Maharashtra\, 422213\, India
CATEGORIES:Rejuvenation
ATTACH;FMTTYPE=image/jpeg:https://vivedawellness.com/wp-content/uploads/2024/08/Sukoon-Retreat-Viveda-Wellness-Nashik-August-2024.jpg
END:VEVENT
END:VCALENDAR